BEGIN:VCALENDAR
VERSION:2.0
PRODID:-//Fun With Canvas | (540) 270-0727 - ECPv6.15.20//NONSGML v1.0//EN
CALSCALE:GREGORIAN
METHOD:PUBLISH
X-WR-CALNAME:Fun With Canvas | (540) 270-0727
X-ORIGINAL-URL:https://www.funwithcanvas.com
X-WR-CALDESC:Events for Fun With Canvas | (540) 270-0727
REFRESH-INTERVAL;VALUE=DURATION:PT1H
X-Robots-Tag:noindex
X-PUBLISHED-TTL:PT1H
BEGIN:VTIMEZONE
TZID:America/New_York
BEGIN:DAYLIGHT
TZOFFSETFROM:-0500
TZOFFSETTO:-0400
TZNAME:EDT
DTSTART:20250309T070000
END:DAYLIGHT
BEGIN:STANDARD
TZOFFSETFROM:-0400
TZOFFSETTO:-0500
TZNAME:EST
DTSTART:20251102T060000
END:STANDARD
BEGIN:DAYLIGHT
TZOFFSETFROM:-0500
TZOFFSETTO:-0400
TZNAME:EDT
DTSTART:20260308T070000
END:DAYLIGHT
BEGIN:STANDARD
TZOFFSETFROM:-0400
TZOFFSETTO:-0500
TZNAME:EST
DTSTART:20261101T060000
END:STANDARD
BEGIN:DAYLIGHT
TZOFFSETFROM:-0500
TZOFFSETTO:-0400
TZNAME:EDT
DTSTART:20270314T070000
END:DAYLIGHT
BEGIN:STANDARD
TZOFFSETFROM:-0400
TZOFFSETTO:-0500
TZNAME:EST
DTSTART:20271107T060000
END:STANDARD
END:VTIMEZONE
BEGIN:VEVENT
DTSTART;TZID=America/New_York:20260424T183000
DTEND;TZID=America/New_York:20260424T200000
DTSTAMP:20260423T121745
CREATED:20250509T161626Z
LAST-MODIFIED:20260222T190415Z
UID:10155-1777055400-1777060800@www.funwithcanvas.com
SUMMARY:Petals in the Mist - Adult Paint Event
DESCRIPTION:Join us at our Manassas Studio for a Friday paint night! \n90 Minute instructor-led class with all supplies included.
URL:https://www.funwithcanvas.com/event/petals-in-the-mist/
LOCATION:Fun with Canvas & More Studio\, 7008 Tech Circle Drive\, Manassas\, United States
END:VEVENT
BEGIN:VEVENT
DTSTART;TZID=America/New_York:20260426T103000
DTEND;TZID=America/New_York:20260426T120000
DTSTAMP:20260423T121745
CREATED:20250331T015247Z
LAST-MODIFIED:20260415T115717Z
UID:9809-1777199400-1777204800@www.funwithcanvas.com
SUMMARY:Midnight grazers - Kids Paint Event
DESCRIPTION:Join us at our Manassas Studio for a Sunday paint class. \n90 Minute instructor-led with all supplies included! \nKids ages 5-14
URL:https://www.funwithcanvas.com/event/midnight-grazers/
LOCATION:Fun with Canvas & More Studio\, 7008 Tech Circle Drive\, Manassas\, United States
END:VEVENT
END:VCALENDAR